BEGIN:VCALENDAR
VERSION:2.0
PRODID:-//ChamberMaster//Event Calendar 2.0//EN
METHOD:PUBLISH
X-PUBLISHED-TTL:P3D
REFRESH-INTERVAL:P3D
CALSCALE:GREGORIAN
BEGIN:VEVENT
DTSTART:20230522T210000Z
DTEND:20230522T230000Z
X-MICROSOFT-CDO-ALLDAYEVENT:FALSE
SUMMARY:2023 The Collar Club
DESCRIPTION:Please join us for a fun evening of delicious food\, networking\, raffle prizes\, tie-dye t-shirt sale and more!
X-ALT-DESC;FMTTYPE=text/html:Please join us for a fun evening of delicious food\, networking\, raffle prizes\, tie-dye t-shirt sale and more!
LOCATION:1921 Baker Drive Wisconsin Rapids\, WI 54494
UID:e.216.29285
SEQUENCE:3
DTSTAMP:20260425T005021Z
URL:https://business.wisconsinrapidschamber.com/events/details/2023-the-collar-club-29285
END:VEVENT

END:VCALENDAR
