BEGIN:VCALENDAR
VERSION:2.0
PRODID:-//ChamberMaster//Event Calendar 2.0//EN
METHOD:PUBLISH
X-PUBLISHED-TTL:P3D
REFRESH-INTERVAL:P3D
CALSCALE:GREGORIAN
BEGIN:VEVENT
DTSTART;VALUE=DATE:20240916
DTEND;VALUE=DATE:20240921
TRANSP:TRANSPARENT
X-MICROSOFT-CDO-ALLDAYEVENT:TRUE
SUMMARY:2024 Chamber Cash Calendar Raffle
DESCRIPTION:Chance to win $1\,600 in 16 days! If you WIN your ticket goes back in the drawing!\n\nDaily winners will be posted on the Chamber's Facebook page: @Heart of Wisconsin Chamber of Commerce\n\n\n\nTickets can be purchased from:\n- Heart of Wisconsin Chamber Office - Chamber Staff\, Ambassadors or Board Members!
X-ALT-DESC;FMTTYPE=text/html:<span style="color: rgb(51\, 51\, 51)\; font-family: sans-serif\, Arial\, Verdana\, &quot\;Trebuchet MS&quot\;\; font-size: 13px\; background-color: rgb(255\, 255\, 255)\;">Chance to win $1\,600 in 16 days! If you WIN your ticket goes back in the drawing!</span><br style="color: rgb(51\, 51\, 51)\; font-family: sans-serif\, Arial\, Verdana\, &quot\;Trebuchet MS&quot\;\; font-size: 13px\;" />\n<span style="color: rgb(51\, 51\, 51)\; font-family: sans-serif\, Arial\, Verdana\, &quot\;Trebuchet MS&quot\;\; font-size: 13px\; background-color: rgb(255\, 255\, 255)\;">Daily winners will be posted on the Chamber&rsquo\;s Facebook page: @Heart of Wisconsin Chamber of Commerce</span><br style="color: rgb(51\, 51\, 51)\; font-family: sans-serif\, Arial\, Verdana\, &quot\;Trebuchet MS&quot\;\; font-size: 13px\;" />\n<br style="color: rgb(51\, 51\, 51)\; font-family: sans-serif\, Arial\, Verdana\, &quot\;Trebuchet MS&quot\;\; font-size: 13px\;" />\n<span style="color: rgb(51\, 51\, 51)\; font-family: sans-serif\, Arial\, Verdana\, &quot\;Trebuchet MS&quot\;\; font-size: 13px\; background-color: rgb(255\, 255\, 255)\;">Tickets can be purchased from:</span>\n<div><span style="color: rgb(51\, 51\, 51)\; font-family: sans-serif\, Arial\, Verdana\, &quot\;Trebuchet MS&quot\;\; font-size: 13px\; background-color: rgb(255\, 255\, 255)\;">- Heart of Wisconsin Chamber Office -&nbsp\;Chamber Staff\, Ambassadors or Board Members!</span></div>\n\n<div><br style="color: rgb(51\, 51\, 51)\; font-family: sans-serif\, Arial\, Verdana\, &quot\;Trebuchet MS&quot\;\; font-size: 13px\;" />\n<br style="color: rgb(51\, 51\, 51)\; font-family: sans-serif\, Arial\, Verdana\, &quot\;Trebuchet MS&quot\;\; font-size: 13px\;" />\n&nbsp\;</div>\n
LOCATION:Heart of Wisconsin Chamber office 1120 Lincoln Street Wisconsin Rapids\, WI 54494
UID:e.216.29630
SEQUENCE:3
DTSTAMP:20260419T123157Z
URL:https://business.wisconsinrapidschamber.com/events/details/2024-chamber-cash-calendar-raffle-09-16-2024-29630
END:VEVENT

END:VCALENDAR
