BEGIN:VCALENDAR
VERSION:2.0
PRODID:-//ChamberMaster//Event Calendar 2.0//EN
METHOD:PUBLISH
X-PUBLISHED-TTL:P3D
REFRESH-INTERVAL:P3D
CALSCALE:GREGORIAN
BEGIN:VEVENT
DTSTART:20240219T230000Z
DTEND:20240220T010000Z
X-MICROSOFT-CDO-ALLDAYEVENT:FALSE
SUMMARY:2024 Networking at Night @ Tamaracks
DESCRIPTION:Please join us for a fun evening of appetizers\, networking\, raffle prizes and more!
X-ALT-DESC;FMTTYPE=text/html:Please join us for a fun evening of appetizers\, networking\, raffle prizes and more!
LOCATION:481 Ruby Ave Wisconsin Rapids\, WI 54494
UID:e.216.29698
SEQUENCE:3
DTSTAMP:20260423T174907Z
URL:https://business.wisconsinrapidschamber.com/events/details/2024-networking-at-night-tamaracks-29698
END:VEVENT

END:VCALENDAR
