BEGIN:VCALENDAR
VERSION:2.0
PRODID:-//ChamberMaster//Event Calendar 2.0//EN
METHOD:PUBLISH
X-PUBLISHED-TTL:P3D
REFRESH-INTERVAL:P3D
CALSCALE:GREGORIAN
BEGIN:VEVENT
DTSTART:20240908T150000Z
DTEND:20240908T200000Z
X-MICROSOFT-CDO-ALLDAYEVENT:FALSE
SUMMARY:24th Annual Downtown Grand Affair
DESCRIPTION:Wisconsin Rapids celebrates the gorgeous autumn season with music\, food\, craft fair shopping\, a car show and more! All types of vendors are accepted including arts and crafts\, antiques\, food from local vendors.
X-ALT-DESC;FMTTYPE=text/html:<span style="caret-color: rgb(29\, 33\, 41)\; color: rgb(29\, 33\, 41)\; font-family: system-ui\, -apple-system\, BlinkMacSystemFont\, &quot\;.SFNSText-Regular&quot\;\, sans-serif\; font-size: 14px\;">Wisconsin Rapids celebrates the gorgeous autumn season with music\, food\, craft fair shopping\, a car show and more! All types of vendors are accepted including arts and crafts\, antiques\, food from local vendors.&nbsp\;</span>
LOCATION:West Grand Avenue\, Wisconsin Rapids
UID:e.216.29360
SEQUENCE:3
DTSTAMP:20260422T085910Z
URL:https://business.wisconsinrapidschamber.com/events/details/24th-annual-downtown-grand-affair-29360
END:VEVENT

END:VCALENDAR
