BEGIN:VCALENDAR
VERSION:2.0
PRODID:-//ChamberMaster//Event Calendar 2.0//EN
METHOD:PUBLISH
X-PUBLISHED-TTL:P3D
REFRESH-INTERVAL:P3D
CALSCALE:GREGORIAN
BEGIN:VEVENT
DTSTART:20240727T150000Z
DTEND:20240727T200000Z
X-MICROSOFT-CDO-ALLDAYEVENT:FALSE
SUMMARY:2nd Annual Paws for a Cause
DESCRIPTION:A fundraiser to help JZs helping hand pets plus program. The program is dedicated to keeping pets healthy and with their loving families\, by providing payment plans for emergency services\, help with vet bills and/ or food
X-ALT-DESC;FMTTYPE=text/html:A fundraiser to help JZs helping hand pets plus program. The program is dedicated to keeping pets healthy and with their loving families\, by providing payment plans for emergency services\, help with vet bills and/ or food<br />\n&nbsp\;
LOCATION:Biron Municipal Center 451 Kahoun Road\, Wisconsin Rapids\, WI 54494
UID:e.216.30517
SEQUENCE:3
DTSTAMP:20260424T030027Z
URL:https://business.wisconsinrapidschamber.com/events/details/2nd-annual-paws-for-a-cause-30517
END:VEVENT

END:VCALENDAR
